BEGIN:VCALENDAR
VERSION:2.0
PRODID:-//Chinese In Wales Association - ECPv6.15.13.1//NONSGML v1.0//EN
CALSCALE:GREGORIAN
METHOD:PUBLISH
X-ORIGINAL-URL:https://chineseinwales.org.uk
X-WR-CALDESC:Events for Chinese In Wales Association
REFRESH-INTERVAL;VALUE=DURATION:PT1H
X-Robots-Tag:noindex
X-PUBLISHED-TTL:PT1H
BEGIN:VTIMEZONE
TZID:Europe/London
BEGIN:DAYLIGHT
TZOFFSETFROM:+0000
TZOFFSETTO:+0100
TZNAME:BST
DTSTART:20220327T010000
END:DAYLIGHT
BEGIN:STANDARD
TZOFFSETFROM:+0100
TZOFFSETTO:+0000
TZNAME:GMT
DTSTART:20221030T010000
END:STANDARD
BEGIN:DAYLIGHT
TZOFFSETFROM:+0000
TZOFFSETTO:+0100
TZNAME:BST
DTSTART:20230326T010000
END:DAYLIGHT
BEGIN:STANDARD
TZOFFSETFROM:+0100
TZOFFSETTO:+0000
TZNAME:GMT
DTSTART:20231029T010000
END:STANDARD
BEGIN:DAYLIGHT
TZOFFSETFROM:+0000
TZOFFSETTO:+0100
TZNAME:BST
DTSTART:20240331T010000
END:DAYLIGHT
BEGIN:STANDARD
TZOFFSETFROM:+0100
TZOFFSETTO:+0000
TZNAME:GMT
DTSTART:20241027T010000
END:STANDARD
END:VTIMEZONE
BEGIN:VEVENT
DTSTART;TZID=Europe/London:20231008T140000
DTEND;TZID=Europe/London:20231008T150000
DTSTAMP:20260419T234906
CREATED:20241008T124230Z
LAST-MODIFIED:20241008T140514Z
UID:64459-1696773600-1696777200@chineseinwales.org.uk
SUMMARY:Weekly Yoga
DESCRIPTION:Older people lead Yen Yen Lai organises a recurring weekend Yoga session for elders 60+ and parents carers. \nOur weekly Yoga session is on Sundays at 14:00pm till 15:00pm. \nCurrent sessions run from Sundays 1st\, 8th\, 15th\, 22nd\, 29th October and 12th\, 19th\, 26th November 2023. \nFee: £1 pp for members\, £3pp for non-members \nAny interest to meet new friends and do light cardiovascular exercise please contact yen@chineseinwales.org.uk or 07869 820500 to register your interest! Limited spaces available.
URL:https://chineseinwales.org.uk/event-and-activity/weekly-yoga-2/
LOCATION:Urban Zen & Movement Studio\, 2 Little Gam St\, Swansea\, SA1 3HY
CATEGORIES:Physical Activities
ATTACH;FMTTYPE=image/jpeg:https://chineseinwales.org.uk/wp-content/uploads/2023/10/IMG20231008151115-scaled.jpg
END:VEVENT
BEGIN:VEVENT
DTSTART;TZID=Europe/London:20231001T140000
DTEND;TZID=Europe/London:20231001T150000
DTSTAMP:20260419T234906
CREATED:20231005T082039Z
LAST-MODIFIED:20241008T140505Z
UID:60295-1696168800-1696172400@chineseinwales.org.uk
SUMMARY:Weekly Yoga
DESCRIPTION:Older people lead Yen Yen Lai organises a recurring weekend Yoga session for elders 60+ and parents carers. \nOur weekly Yoga session is on Sundays at 14:00pm till 15:00pm. \nCurrent sessions run from Sundays 1st\, 8th\, 15th\, 22nd\, 29th October and 12th\, 19th\, 26th November 2023. \nFee: £1 pp for members\, £3pp for non-members \nAny interest to meet new friends and do light cardiovascular exercise please contact yen@chineseinwales.org.uk or 07869 820500 to register your interest! Limited spaces available.
URL:https://chineseinwales.org.uk/event-and-activity/weekly-yoga/
LOCATION:Urban Zen & Movement Studio\, 2 Little Gam St\, Swansea\, SA1 3HY
CATEGORIES:Physical Activities
ATTACH;FMTTYPE=image/jpeg:https://chineseinwales.org.uk/wp-content/uploads/2023/10/IMG20231008151115-scaled.jpg
END:VEVENT
BEGIN:VEVENT
DTSTART;TZID=Europe/London:20230927T130000
DTEND;TZID=Europe/London:20230927T143000
DTSTAMP:20260419T234906
CREATED:20230926T132745Z
LAST-MODIFIED:20241008T132716Z
UID:60164-1695819600-1695825000@chineseinwales.org.uk
SUMMARY:Cancer Prevention Workshop
DESCRIPTION:Cancer prevention workshop at the Swansea Grand Theatre\, Rear Studio
URL:https://chineseinwales.org.uk/event-and-activity/cancer-prevention-workshop/
LOCATION:Swansea Grand Theatre\, Swansea Grand Theatre\, Swansea\, SA1 3QJ\, United Kingdom
CATEGORIES:Self-Care Activities
END:VEVENT
BEGIN:VEVENT
DTSTART;TZID=Europe/London:20230608T093000
DTEND;TZID=Europe/London:20230608T123000
DTSTAMP:20260419T234906
CREATED:20231024T093218Z
LAST-MODIFIED:20241008T132657Z
UID:60531-1686216600-1686227400@chineseinwales.org.uk
SUMMARY:Carer Spa and Badminton
DESCRIPTION:Chinese in Wales Association Autism team organised a spa and badminton relaxing session for the carers of the group.
URL:https://chineseinwales.org.uk/event-and-activity/tt-carer-spa-and-badminton/
LOCATION:LC2\, Oystermouth Rd\, Maritime Quarter\, Swansea\, SA1 3ST
CATEGORIES:Physical Activities,Self-Care Activities
END:VEVENT
BEGIN:VEVENT
DTSTART;TZID=Europe/London:20230604T140000
DTEND;TZID=Europe/London:20230604T160000
DTSTAMP:20260419T234906
CREATED:20231024T092605Z
LAST-MODIFIED:20241008T130800Z
UID:60529-1685887200-1685894400@chineseinwales.org.uk
SUMMARY:Weekly Badminton
DESCRIPTION:Chinese in Wales Association hosts weekly badminton sessions at local leisure centres for the community youth\, offering a place for safe physical exercise\, and social connection. \nWe understand how busy school can get – so what better way to relax than to sweat that stress out with a bunch of friends? \nCIWA aims to have ongoing activities on the weekend\, encouraging children and young people to get active\, improving physical fitness and releasing mental stress. \nPlaying sports helps you stay in shape and reduces anxiety and negative mood. In addition\, badminton allows you to play with a few people\, helping you meet new friends and improving current relationships! \nBadminton Sessions at LC2 \n\nEVERY SUNDAY 14:00-16:00\nBooking is essential\, please contact Weiling at welbeing@chineseinwales.org.uk for more information.\n\nCome join if you are interested!\nPlease become a member and join our group for more information. It’s free!
URL:https://chineseinwales.org.uk/event-and-activity/cyp-weekly-badminton-5/
LOCATION:LC2\, Oystermouth Rd\, Maritime Quarter\, Swansea\, SA1 3ST
CATEGORIES:Physical Activities
ATTACH;FMTTYPE=image/jpeg:https://chineseinwales.org.uk/wp-content/uploads/2023/09/IMG_20220424_155403-scaled.jpg
END:VEVENT
BEGIN:VEVENT
DTSTART;VALUE=DATE:20230603
DTEND;VALUE=DATE:20230604
DTSTAMP:20260419T234906
CREATED:20231024T092353Z
LAST-MODIFIED:20241008T132640Z
UID:60526-1685750400-1685836799@chineseinwales.org.uk
SUMMARY:Series of Art workshops
DESCRIPTION:Chinese in Wales Association Youth group lead is working in collaboration with Mission Gallery to organise a series of art workshops for the community teenagers.
URL:https://chineseinwales.org.uk/event-and-activity/cyp-series-of-art-workshops/
LOCATION:Mission Gallery\, Mission Gallery Gloucester Pl\, Maritime Quarter\, Swansea\, SA1 1TY
CATEGORIES:Cultural Activities
END:VEVENT
BEGIN:VEVENT
DTSTART;TZID=Europe/London:20230601T140000
DTEND;TZID=Europe/London:20230601T160000
DTSTAMP:20260419T234906
CREATED:20231024T091909Z
LAST-MODIFIED:20241008T130804Z
UID:60522-1685628000-1685635200@chineseinwales.org.uk
SUMMARY:Multisport Day
DESCRIPTION:Chinese in Wales Association Youth group lead organised a multisport day at the Swansea Tennis Centre
URL:https://chineseinwales.org.uk/event-and-activity/cyp-multisport-day/
LOCATION:Swansea Tennis Centre\, Brunel Way\, Pentre-chwyth\, Bon-y-maen\,\, Swansea\, SA1 7DS
CATEGORIES:Physical Activities
END:VEVENT
BEGIN:VEVENT
DTSTART;VALUE=DATE:20230529
DTEND;VALUE=DATE:20230601
DTSTAMP:20260419T234906
CREATED:20231024T091650Z
LAST-MODIFIED:20241008T132435Z
UID:60519-1685318400-1685577599@chineseinwales.org.uk
SUMMARY:3D2N Llangrannog FAMILY Retreat
DESCRIPTION:Chinese in Wales Association Autism Team organised a 3 days 2 nights family retreat at Llangrannog. \nMembers who are interested please contact Hong Yi\, or Hazel directly.
URL:https://chineseinwales.org.uk/event-and-activity/tt-3d2n-llangrannog-family-retreat/
LOCATION:Llangrannog\, Llangrannog
CATEGORIES:Social Activities
END:VEVENT
BEGIN:VEVENT
DTSTART;VALUE=DATE:20230528
DTEND;VALUE=DATE:20230529
DTSTAMP:20260419T234906
CREATED:20231024T091440Z
LAST-MODIFIED:20241008T132605Z
UID:60517-1685232000-1685318399@chineseinwales.org.uk
SUMMARY:Hanfu Experience
DESCRIPTION:Chinese in Wales Association Autism team organised an event of allowing community members to try on traditional Chinese Hanfu.
URL:https://chineseinwales.org.uk/event-and-activity/tt-hanfu-experience/
LOCATION:Swansea Grand Theatre\, Swansea Grand Theatre\, Swansea\, SA1 3QJ\, United Kingdom
CATEGORIES:Cultural Activities
END:VEVENT
BEGIN:VEVENT
DTSTART;TZID=Europe/London:20230525T093000
DTEND;TZID=Europe/London:20230525T123000
DTSTAMP:20260419T234906
CREATED:20231024T091309Z
LAST-MODIFIED:20241008T132538Z
UID:60515-1685007000-1685017800@chineseinwales.org.uk
SUMMARY:Carer Cwtch
DESCRIPTION:Chinese in Wales Association Autism team organised a relaxing event for the carers.
URL:https://chineseinwales.org.uk/event-and-activity/tt-carer-cwtch-2/
LOCATION:Swansea Grand Theatre\, Swansea Grand Theatre\, Swansea\, SA1 3QJ\, United Kingdom
CATEGORIES:Self-Care Activities
END:VEVENT
BEGIN:VEVENT
DTSTART;TZID=Europe/London:20230524T100000
DTEND;TZID=Europe/London:20230524T140000
DTSTAMP:20260419T234906
CREATED:20231024T091220Z
LAST-MODIFIED:20241008T132528Z
UID:60513-1684922400-1684936800@chineseinwales.org.uk
SUMMARY:Carer Cwtch
DESCRIPTION:Chinese in Wales Association Autism team organised a relaxing event for the carers.
URL:https://chineseinwales.org.uk/event-and-activity/tt-carer-cwtch/
LOCATION:Swansea Grand Theatre\, Swansea Grand Theatre\, Swansea\, SA1 3QJ\, United Kingdom
CATEGORIES:Self-Care Activities
END:VEVENT
BEGIN:VEVENT
DTSTART;VALUE=DATE:20230523
DTEND;VALUE=DATE:20230524
DTSTAMP:20260419T234906
CREATED:20231024T090940Z
LAST-MODIFIED:20241008T132511Z
UID:60510-1684800000-1684886399@chineseinwales.org.uk
SUMMARY:National Botanic Garden Wales
DESCRIPTION:Chinese in Wales Association are organising a visit to the National Botanic Garden Wales. \nAny interests in joining as a volunteer please contact advocacy officer at: 01792 469919.
URL:https://chineseinwales.org.uk/event-and-activity/adv-national-botanic-garden-wales/
LOCATION:National Botanic Garden Wales\, Middleton Hall\, Llanarthne\, SA32 8HN
CATEGORIES:Social Activities
END:VEVENT
BEGIN:VEVENT
DTSTART;VALUE=DATE:20230521
DTEND;VALUE=DATE:20230522
DTSTAMP:20260419T234906
CREATED:20231024T090141Z
LAST-MODIFIED:20241008T132343Z
UID:60503-1684627200-1684713599@chineseinwales.org.uk
SUMMARY:Wonderfest
DESCRIPTION:Chinese in Wales Association were invited to join Wonderfest at the National Waterfront Museum. \nTeam leads from the Autism team and Youth group participated in this event to engage with the community.
URL:https://chineseinwales.org.uk/event-and-activity/tt-cyp-wonderfest/
LOCATION:National Waterfront Museum\, Oystermouth Rd\, Maritime Quarter\,\, Swansea\, SA1 3RD
CATEGORIES:Social Activities
END:VEVENT
BEGIN:VEVENT
DTSTART;VALUE=DATE:20230518
DTEND;VALUE=DATE:20230519
DTSTAMP:20260419T234906
CREATED:20231024T085924Z
LAST-MODIFIED:20241008T132312Z
UID:60501-1684368000-1684454399@chineseinwales.org.uk
SUMMARY:Go Ape
DESCRIPTION:Chinese in Wales Association Autism Team organised an event at Go Ape Margam. \nChildren got a taste of climbing to the treetops and enjoying a beautiful day out.
URL:https://chineseinwales.org.uk/event-and-activity/tt-go-ape/
LOCATION:Bridgend\, Bridgend
CATEGORIES:Physical Activities
END:VEVENT
BEGIN:VEVENT
DTSTART;TZID=Europe/London:20230503T163000
DTEND;TZID=Europe/London:20230503T183000
DTSTAMP:20260419T234906
CREATED:20231024T085710Z
LAST-MODIFIED:20241008T132243Z
UID:60499-1683131400-1683138600@chineseinwales.org.uk
SUMMARY:The Kings Coronation Celebration Day
DESCRIPTION:Chinese in Wales Association are proud to host a community party to celebrate the King’s Coronation Day at the Swansea Grand Theatre\, IT Hub. \nAll community members are welcomed to join.
URL:https://chineseinwales.org.uk/event-and-activity/the-kings-coronation-celebration-day/
LOCATION:Swansea Grand Theatre\, Swansea Grand Theatre\, Swansea\, SA1 3QJ\, United Kingdom
CATEGORIES:Cultural Activities,Social Activities
END:VEVENT
BEGIN:VEVENT
DTSTART;TZID=Europe/London:20230428T093000
DTEND;TZID=Europe/London:20230428T143000
DTSTAMP:20260419T234906
CREATED:20231003T100647Z
LAST-MODIFIED:20241008T132230Z
UID:60292-1682674200-1682692200@chineseinwales.org.uk
SUMMARY:Autism Information Day (NAS)
DESCRIPTION:Chinese in Wales Association Autism Team were invited to participate in the Autism Information Day (NAS) at the Waterfront Community Church. \nPlease feel free to come along and meet the team! It is a free and open to all event!
URL:https://chineseinwales.org.uk/event-and-activity/tt-autism-information-day-nas/
LOCATION:Waterfront Community Church
CATEGORIES:Educational Activities
END:VEVENT
BEGIN:VEVENT
DTSTART;TZID=Europe/London:20230427T100000
DTEND;TZID=Europe/London:20230427T120000
DTSTAMP:20260419T234906
CREATED:20231003T095750Z
LAST-MODIFIED:20241008T132218Z
UID:60290-1682589600-1682596800@chineseinwales.org.uk
SUMMARY:Carer Morning Walk
DESCRIPTION:Chinese in Wales Association Hazel hosts a morning walk to catch up with the carers from the group along the beach front. \nThis is only available to in group members. \nFor more information please get in touch with autism@chineseinwales.org.uk
URL:https://chineseinwales.org.uk/event-and-activity/tt-carer-morning-walk/
LOCATION:St. Fagans National Museum of History\, Cardiff\, United Kingdom
CATEGORIES:Social Activities
END:VEVENT
BEGIN:VEVENT
DTSTART;TZID=Europe/London:20230426T110000
DTEND;TZID=Europe/London:20230426T120000
DTSTAMP:20260419T234906
CREATED:20231003T095619Z
LAST-MODIFIED:20241008T132148Z
UID:60288-1682506800-1682510400@chineseinwales.org.uk
SUMMARY:Carer Coffee Morning
DESCRIPTION:Chinese in Wales Association Hazel hosts a coffee morning to catch up with the carers from the group over a hot cup of coffee. \nThis is only available to in group members. \nFor more information please get in touch with autism@chineseinwales.org.uk
URL:https://chineseinwales.org.uk/event-and-activity/tt-carer-coffee-morning/
LOCATION:St. Fagans National Museum of History\, Cardiff\, United Kingdom
CATEGORIES:Social Activities
END:VEVENT
BEGIN:VEVENT
DTSTART;TZID=Europe/London:20230423T143000
DTEND;TZID=Europe/London:20230423T153000
DTSTAMP:20260419T234906
CREATED:20231003T094930Z
LAST-MODIFIED:20241008T130957Z
UID:60286-1682260200-1682263800@chineseinwales.org.uk
SUMMARY:Weekly Badminton
DESCRIPTION:Chinese in Wales Association hosts weekly badminton sessions at local leisure centres for the community youth\, offering a place for safe physical exercise\, and social connection. \nSessions are subject to leisure centre availability\, any interest please contact and register with the youth group lead Weiling : wellbeing@chineseinwales.org.uk
URL:https://chineseinwales.org.uk/event-and-activity/cyp-weekly-badminton-4/
LOCATION:St. Fagans National Museum of History\, Cardiff\, United Kingdom
CATEGORIES:Physical Activities
ATTACH;FMTTYPE=image/jpeg:https://chineseinwales.org.uk/wp-content/uploads/2023/09/IMG_20220424_155403-scaled.jpg
END:VEVENT
BEGIN:VEVENT
DTSTART;TZID=Europe/London:20230423T120000
DTEND;TZID=Europe/London:20230423T133000
DTSTAMP:20260419T234906
CREATED:20231003T094232Z
LAST-MODIFIED:20241008T132124Z
UID:60283-1682251200-1682256600@chineseinwales.org.uk
SUMMARY:Children Beach Cleaning
DESCRIPTION:Autism Team of Chinese in Wales Association organised a Beach clean with their members down at Swansea Bay. What better way to contribute to the community!
URL:https://chineseinwales.org.uk/event-and-activity/tt-children-beach-cleaning/
LOCATION:Swansea Bay
CATEGORIES:Environmental Activities
END:VEVENT
BEGIN:VEVENT
DTSTART;VALUE=DATE:20230420
DTEND;VALUE=DATE:20230421
DTSTAMP:20260419T234906
CREATED:20231003T094032Z
LAST-MODIFIED:20241008T132011Z
UID:60280-1681948800-1682035199@chineseinwales.org.uk
SUMMARY:Carer Bridgend Retreat
DESCRIPTION:Autism Team lead Hazel organised a carers retreat at Bridgend to provide a relaxing time for those who are constantly under pressure to provide.
URL:https://chineseinwales.org.uk/event-and-activity/tt-carer-bridgend-retreat/
LOCATION:Bridgend\, Bridgend
CATEGORIES:Self-Care Activities
END:VEVENT
BEGIN:VEVENT
DTSTART;TZID=Europe/London:20230416T143000
DTEND;TZID=Europe/London:20230416T153000
DTSTAMP:20260419T234906
CREATED:20231003T091957Z
LAST-MODIFIED:20241008T131003Z
UID:60278-1681655400-1681659000@chineseinwales.org.uk
SUMMARY:Weekly Badminton
DESCRIPTION:Chinese in Wales Association hosts weekly badminton sessions at local leisure centres for the community youth\, offering a place for safe physical exercise\, and social connection. \nSessions are subject to leisure centre availability\, any interest please contact and register with the youth group lead Weiling : wellbeing@chineseinwales.org.uk
URL:https://chineseinwales.org.uk/event-and-activity/cyp-weekly-badminton-3/
LOCATION:LC2\, Oystermouth Rd\, Maritime Quarter\, Swansea\, SA1 3ST
CATEGORIES:Physical Activities
ATTACH;FMTTYPE=image/jpeg:https://chineseinwales.org.uk/wp-content/uploads/2023/09/IMG_20220424_155403-scaled.jpg
END:VEVENT
BEGIN:VEVENT
DTSTART;VALUE=DATE:20230413
DTEND;VALUE=DATE:20230415
DTSTAMP:20260419T234906
CREATED:20231003T091730Z
LAST-MODIFIED:20241008T132113Z
UID:60275-1681344000-1681516799@chineseinwales.org.uk
SUMMARY:Forest School Activity
DESCRIPTION:Chinese in Wales Association Autism Team organised a forest school activity
URL:https://chineseinwales.org.uk/event-and-activity/tt-forest-school-activity/
LOCATION:Llys Nini animal centre\, Penllergaer
CATEGORIES:Educational Activities,Environmental Activities
END:VEVENT
BEGIN:VEVENT
DTSTART;TZID=Europe/London:20230412T100000
DTEND;TZID=Europe/London:20230412T120000
DTSTAMP:20260419T234906
CREATED:20231003T091610Z
LAST-MODIFIED:20241008T131804Z
UID:60273-1681293600-1681300800@chineseinwales.org.uk
SUMMARY:Art with Hazel
DESCRIPTION:Autism Team lead Hazel hosted an art session at the Grand Theatre.
URL:https://chineseinwales.org.uk/event-and-activity/tt-art-with-hazel/
LOCATION:Swansea Grand Theatre\, Swansea Grand Theatre\, Swansea\, SA1 3QJ\, United Kingdom
CATEGORIES:Cultural Activities
END:VEVENT
BEGIN:VEVENT
DTSTART;VALUE=DATE:20230411
DTEND;VALUE=DATE:20230412
DTSTAMP:20260419T234906
CREATED:20231003T091414Z
LAST-MODIFIED:20241008T140456Z
UID:60269-1681171200-1681257599@chineseinwales.org.uk
SUMMARY:Cardiff Day Trip
DESCRIPTION:Older people team lead Yen Yen Lai organised a Cardiff day trip providing transport for the older people group. Same elderlies came with their family and enjoyed a day out in the Capital.
URL:https://chineseinwales.org.uk/event-and-activity/op-cardiff-day-trip/
LOCATION:Cardiff\, Cardiff
CATEGORIES:Social Activities
END:VEVENT
BEGIN:VEVENT
DTSTART;TZID=Europe/London:20230409T143000
DTEND;TZID=Europe/London:20230409T153000
DTSTAMP:20260419T234906
CREATED:20231003T091144Z
LAST-MODIFIED:20241008T131011Z
UID:60267-1681050600-1681054200@chineseinwales.org.uk
SUMMARY:Weekly Badminton
DESCRIPTION:Chinese in Wales Association hosts weekly badminton sessions at local leisure centres for the community youth\, offering a place for safe physical exercise\, and social connection. \nSessions are subject to leisure centre availability\, any interest please contact and register with the youth group lead Weiling : wellbeing@chineseinwales.org.uk
URL:https://chineseinwales.org.uk/event-and-activity/cyp-weekly-badminton-2/
LOCATION:LC2\, Oystermouth Rd\, Maritime Quarter\, Swansea\, SA1 3ST
CATEGORIES:Physical Activities
ATTACH;FMTTYPE=image/jpeg:https://chineseinwales.org.uk/wp-content/uploads/2023/09/IMG_20220424_155403-scaled.jpg
END:VEVENT
BEGIN:VEVENT
DTSTART;TZID=Europe/London:20230406T120000
DTEND;TZID=Europe/London:20230406T130000
DTSTAMP:20260419T234906
CREATED:20231003T090437Z
LAST-MODIFIED:20241008T131716Z
UID:60264-1680782400-1680786000@chineseinwales.org.uk
SUMMARY:Drumming Session
DESCRIPTION:Chinese in Wales Association organised a Drumming taster day with the likes of African drums\, traditional drums and many more.
URL:https://chineseinwales.org.uk/event-and-activity/cyp-drumming-session/
LOCATION:Swansea Grand Theatre\, Swansea Grand Theatre\, Swansea\, SA1 3QJ\, United Kingdom
CATEGORIES:Cultural Activities
ATTACH;FMTTYPE=image/jpeg:https://chineseinwales.org.uk/wp-content/uploads/2023/09/IMG_20230406_120045-scaled.jpg
END:VEVENT
BEGIN:VEVENT
DTSTART;TZID=Europe/London:20230404T110000
DTEND;TZID=Europe/London:20230404T130000
DTSTAMP:20260419T234906
CREATED:20231003T085843Z
LAST-MODIFIED:20241008T131609Z
UID:60261-1680606000-1680613200@chineseinwales.org.uk
SUMMARY:Laserzone
DESCRIPTION:Chinese in Wales Association Autism Team organised an event at Laserzone Swansea for group members to attend.
URL:https://chineseinwales.org.uk/event-and-activity/laserzone/
LOCATION:Lazer Zone\, Castle Buildings\, Worcester Pl\, Swansea\, SA1 1JQ
CATEGORIES:Social Activities
END:VEVENT
BEGIN:VEVENT
DTSTART;VALUE=DATE:20230403
DTEND;VALUE=DATE:20230404
DTSTAMP:20260419T234906
CREATED:20231003T084258Z
LAST-MODIFIED:20241008T132105Z
UID:60257-1680480000-1680566399@chineseinwales.org.uk
SUMMARY:Moorlake Woods
DESCRIPTION:Chinese in Wales Association organised a youth group event at Moorlake Woods aiming to give the youth group a chance to learn survival skills in the woods. Activities include starting a fire with flint and steel\, navigation\, building a shelter\, and team building exercises.
URL:https://chineseinwales.org.uk/event-and-activity/cyp-moorlake-woods/
LOCATION:Moorlake Woods\, Fairwood\, Southgate\, Swansea\, SA4 3PQ
CATEGORIES:Educational Activities,Environmental Activities,Social Activities
ATTACH;FMTTYPE=image/jpeg:https://chineseinwales.org.uk/wp-content/uploads/2023/09/IMG_20220815_154452-scaled.jpg
END:VEVENT
BEGIN:VEVENT
DTSTART;TZID=Europe/London:20230402T140000
DTEND;TZID=Europe/London:20230402T160000
DTSTAMP:20260419T234906
CREATED:20231003T083806Z
LAST-MODIFIED:20241008T131035Z
UID:60254-1680444000-1680451200@chineseinwales.org.uk
SUMMARY:Weekly Badminton
DESCRIPTION:Chinese in Wales Association hosts weekly badminton sessions at local leisure centres for the community youth\, offering a place for safe physical exercise\, and social connection. \nSessions are subject to leisure centre availability\, any interest please contact and register with the youth group lead Weiling: wellbeing@chineseinwales.org.uk
URL:https://chineseinwales.org.uk/event-and-activity/cyp-weekly-badminton/
LOCATION:LC2\, Oystermouth Rd\, Maritime Quarter\, Swansea\, SA1 3ST
CATEGORIES:Physical Activities
ATTACH;FMTTYPE=image/jpeg:https://chineseinwales.org.uk/wp-content/uploads/2023/09/IMG_20220424_155403-2-scaled.jpg
END:VEVENT
END:VCALENDAR