BEGIN:VCALENDAR
VERSION:2.0
PRODID:-//Chinese In Wales Association - ECPv6.15.13.1//NONSGML v1.0//EN
CALSCALE:GREGORIAN
METHOD:PUBLISH
X-ORIGINAL-URL:https://chineseinwales.org.uk
X-WR-CALDESC:Events for Chinese In Wales Association
REFRESH-INTERVAL;VALUE=DURATION:PT1H
X-Robots-Tag:noindex
X-PUBLISHED-TTL:PT1H
BEGIN:VTIMEZONE
TZID:Europe/London
BEGIN:STANDARD
TZOFFSETFROM:+0100
TZOFFSETTO:+0000
TZNAME:GMT
DTSTART:19711031T020000
END:STANDARD
END:VTIMEZONE
BEGIN:VEVENT
DTSTART;TZID=Europe/London:20260420T001238
DTEND;TZID=Europe/London:20260420T001238
DTSTAMP:20260420T001238
CREATED:20241119T153348Z
LAST-MODIFIED:20241119T153746Z
UID:65217-0-0@chineseinwales.org.uk
SUMMARY:Dinner Party
DESCRIPTION:Look\, my liege! Shut up! Will you shut up?! What a strange person. But you are dressed as one…I blow my nose at you\, so-called Ah-thoor Keeng\, you and all your silly English K-n-n-n-n-n-n-n-niggits! The Lady of the Lake\, her arm clad in the purest shimmering samite\, held aloft Excalibur from the bosom of the water\, signifying by divine providence that I\, Arthur\, was to carry Excalibur. That is why I am your king.
URL:https://chineseinwales.org.uk/event-and-activity/dinner-party/
LOCATION:Fairwood\, Southgate\, Swansea
CATEGORIES:Environmental Activities,Party
END:VEVENT
BEGIN:VEVENT
DTSTART;TZID=Europe/London:20260420T001238
DTEND;TZID=Europe/London:20260420T001238
DTSTAMP:20260420T001238
CREATED:20241119T153348Z
LAST-MODIFIED:20241119T153746Z
UID:65218-0-0@chineseinwales.org.uk
SUMMARY:Movie Marathon
DESCRIPTION:What’s the point of going out? To go to the movies\, of course!
URL:https://chineseinwales.org.uk/event-and-activity/movie-marathon/
LOCATION:Fairwood\, Southgate\, Swansea
CATEGORIES:Environmental Activities,Family Fun
END:VEVENT
BEGIN:VEVENT
DTSTART;TZID=Europe/London:20260420T001238
DTEND;TZID=Europe/London:20260420T001238
DTSTAMP:20260420T001238
CREATED:20241119T153348Z
LAST-MODIFIED:20241119T153746Z
UID:65219-0-0@chineseinwales.org.uk
SUMMARY:Kitten Adoption Day
DESCRIPTION:Adopt a kitty today! You won’t regret having a new adorable pet in your home.
URL:https://chineseinwales.org.uk/event-and-activity/kitten-adoption-day/
LOCATION:Fairwood\, Southgate\, Swansea
CATEGORIES:Environmental Activities,Family Fun
END:VEVENT
BEGIN:VEVENT
DTSTART;TZID=Europe/London:20260420T001238
DTEND;TZID=Europe/London:20260420T001238
DTSTAMP:20260420T001238
CREATED:20241119T153348Z
LAST-MODIFIED:20241119T153746Z
UID:65220-0-0@chineseinwales.org.uk
SUMMARY:Weekend Long Adventure
DESCRIPTION:Dear Mr. President\, There are too many states nowadays. Please\, eliminate three. P.S. I am not a crackpot. You don’t win friends with salad. I’m a Spalding Gray in a Rick Dees world. D’oh. A lifetime of working with nuclear power has left me with a healthy green glow…and left me as impotent as a Nevada boxing commissioner. No children have ever meddled with the Republican Party and lived to tell about it.
URL:https://chineseinwales.org.uk/event-and-activity/weekend-long-adventure/
LOCATION:Fairwood\, Southgate\, Swansea
CATEGORIES:Environmental Activities,Family Fun
END:VEVENT
END:VCALENDAR