BEGIN:VCALENDAR
VERSION:2.0
PRODID:-//Chinese In Wales Association - ECPv6.15.13.1//NONSGML v1.0//EN
CALSCALE:GREGORIAN
METHOD:PUBLISH
X-ORIGINAL-URL:https://chineseinwales.org.uk
X-WR-CALDESC:Events for Chinese In Wales Association
REFRESH-INTERVAL;VALUE=DURATION:PT1H
X-Robots-Tag:noindex
X-PUBLISHED-TTL:PT1H
BEGIN:VTIMEZONE
TZID:Europe/London
BEGIN:STANDARD
TZOFFSETFROM:+0100
TZOFFSETTO:+0000
TZNAME:GMT
DTSTART:19711031T020000
END:STANDARD
END:VTIMEZONE
BEGIN:VEVENT
DTSTART;TZID=Europe/London:20260420T000034
DTEND;TZID=Europe/London:20260420T000034
DTSTAMP:20260420T000034
CREATED:20241119T153352Z
LAST-MODIFIED:20241119T153747Z
UID:65224-0-0@chineseinwales.org.uk
SUMMARY:Late Night Party
DESCRIPTION:Well\, I got better. Ah\, now we see the violence inherent in the system! The swallow may fly south with the sun\, and the house martin or the plover may seek warmer climes in winter\, yet these are not strangers to our land. It’s only a model. It’s only a model.
URL:https://chineseinwales.org.uk/event-and-activity/late-night-party/
CATEGORIES:Environmental Activities,Nightlife,Party
END:VEVENT
BEGIN:VEVENT
DTSTART;TZID=Europe/London:20260420T000034
DTEND;TZID=Europe/London:20260420T000034
DTSTAMP:20260420T000034
CREATED:20241119T153348Z
LAST-MODIFIED:20241119T153745Z
UID:65216-0-0@chineseinwales.org.uk
SUMMARY:Birthday Party
DESCRIPTION:Why do you think that she is a witch? He hasn’t got stuff all over him. Well\, I didn’t vote for you. A newt? Look\, my liege! I don’t want to talk to you no more\, you empty-headed animal food trough water! I fart in your general direction! Your mother was a hamster and your father smelt of elderberries! Now leave before I am forced to taunt you a second time!
URL:https://chineseinwales.org.uk/event-and-activity/birthday-party/
CATEGORIES:Environmental Activities,Party
END:VEVENT
BEGIN:VEVENT
DTSTART;TZID=Europe/London:20260420T000034
DTEND;TZID=Europe/London:20260420T000034
DTSTAMP:20260420T000034
CREATED:20241119T153348Z
LAST-MODIFIED:20241119T153746Z
UID:65217-0-0@chineseinwales.org.uk
SUMMARY:Dinner Party
DESCRIPTION:Look\, my liege! Shut up! Will you shut up?! What a strange person. But you are dressed as one…I blow my nose at you\, so-called Ah-thoor Keeng\, you and all your silly English K-n-n-n-n-n-n-n-niggits! The Lady of the Lake\, her arm clad in the purest shimmering samite\, held aloft Excalibur from the bosom of the water\, signifying by divine providence that I\, Arthur\, was to carry Excalibur. That is why I am your king.
URL:https://chineseinwales.org.uk/event-and-activity/dinner-party/
CATEGORIES:Environmental Activities,Party
END:VEVENT
END:VCALENDAR